BEGIN:VCALENDAR
VERSION:2.0
PRODID:-//wtuz.com - ECPv6.15.16//NONSGML v1.0//EN
CALSCALE:GREGORIAN
METHOD:PUBLISH
X-WR-CALNAME:wtuz.com
X-ORIGINAL-URL:https://wtuz.com
X-WR-CALDESC:Events for wtuz.com
REFRESH-INTERVAL;VALUE=DURATION:PT1H
X-Robots-Tag:noindex
X-PUBLISHED-TTL:PT1H
BEGIN:VTIMEZONE
TZID:America/New_York
BEGIN:DAYLIGHT
TZOFFSETFROM:-0500
TZOFFSETTO:-0400
TZNAME:EDT
DTSTART:20250309T070000
END:DAYLIGHT
BEGIN:STANDARD
TZOFFSETFROM:-0400
TZOFFSETTO:-0500
TZNAME:EST
DTSTART:20251102T060000
END:STANDARD
BEGIN:DAYLIGHT
TZOFFSETFROM:-0500
TZOFFSETTO:-0400
TZNAME:EDT
DTSTART:20260308T070000
END:DAYLIGHT
BEGIN:STANDARD
TZOFFSETFROM:-0400
TZOFFSETTO:-0500
TZNAME:EST
DTSTART:20261101T060000
END:STANDARD
BEGIN:DAYLIGHT
TZOFFSETFROM:-0500
TZOFFSETTO:-0400
TZNAME:EDT
DTSTART:20270314T070000
END:DAYLIGHT
BEGIN:STANDARD
TZOFFSETFROM:-0400
TZOFFSETTO:-0500
TZNAME:EST
DTSTART:20271107T060000
END:STANDARD
END:VTIMEZONE
BEGIN:VEVENT
DTSTART;VALUE=DATE:20260422
DTEND;VALUE=DATE:20260423
DTSTAMP:20260422T022146
CREATED:20260415T132407Z
LAST-MODIFIED:20260415T132407Z
UID:10001333-1776816000-1776902399@wtuz.com
SUMMARY:Cleveland Clinic Union Hospital A1c Screening
DESCRIPTION:Home\nNews\n\n	News Archive\n	Obituaries\n\n\nSports\nAuction\nContests\n\n	Contest Rules\n	Birthdays\n	Anniversaries\n\n\nPodcasts\nWhat’s Happening\n\n	Cancellations\n	Garage Sales\n	Lost & Found\n\n\nStation Info\n\n	WTUZ Radio Internship\n	On-Air Schedule\n	Staff\n	Privacy Policy\n\n\nHelp Wanted\nContact\n\n	Advertising Contact\n\n\n\n							\n							\n							\n							\n				\n					\n				\n			\n						\n						\n					\n				\n				\n				\n			\n				\n				\n				\n				\n				\n				\n				\n				\n				\n				\n				\n				\n				\n				\n				\n				\n				\n				The Cleveland Clinic Union Hospital A1c Screening will take place on Wednesday\, April 22nd from 8 am – 10 am at Mako’s Market & Pharmacy\, 240 East 3rd Street\, Uhrichsville. Management of blood sugar is key in reducing the health complications of diabetes. This finger stick screening test measures your average blood sugar over the past 2 to 3 months. It is a non-fasting test. The cost is $10. (Cash or check only). To register\, call 330.602.0779 or Visit: unionhospital.org/events to see a full list of Cleveland Clinic Union Hospital community events. (Appointments are preferred. Walk-ins are subject to availability.)
URL:https://wtuz.com/event/cleveland-clinic-union-hospital-a1c-screening-13/
END:VEVENT
END:VCALENDAR