BEGIN:VCALENDAR
VERSION:2.0
PRODID:-//wtuz.com - ECPv6.15.16//NONSGML v1.0//EN
CALSCALE:GREGORIAN
METHOD:PUBLISH
X-WR-CALNAME:wtuz.com
X-ORIGINAL-URL:https://wtuz.com
X-WR-CALDESC:Events for wtuz.com
REFRESH-INTERVAL;VALUE=DURATION:PT1H
X-Robots-Tag:noindex
X-PUBLISHED-TTL:PT1H
BEGIN:VTIMEZONE
TZID:America/New_York
BEGIN:DAYLIGHT
TZOFFSETFROM:-0500
TZOFFSETTO:-0400
TZNAME:EDT
DTSTART:20250309T070000
END:DAYLIGHT
BEGIN:STANDARD
TZOFFSETFROM:-0400
TZOFFSETTO:-0500
TZNAME:EST
DTSTART:20251102T060000
END:STANDARD
BEGIN:DAYLIGHT
TZOFFSETFROM:-0500
TZOFFSETTO:-0400
TZNAME:EDT
DTSTART:20260308T070000
END:DAYLIGHT
BEGIN:STANDARD
TZOFFSETFROM:-0400
TZOFFSETTO:-0500
TZNAME:EST
DTSTART:20261101T060000
END:STANDARD
BEGIN:DAYLIGHT
TZOFFSETFROM:-0500
TZOFFSETTO:-0400
TZNAME:EDT
DTSTART:20270314T070000
END:DAYLIGHT
BEGIN:STANDARD
TZOFFSETFROM:-0400
TZOFFSETTO:-0500
TZNAME:EST
DTSTART:20271107T060000
END:STANDARD
END:VTIMEZONE
BEGIN:VEVENT
DTSTART;VALUE=DATE:20260423
DTEND;VALUE=DATE:20260424
DTSTAMP:20260423T021259
CREATED:20260401T212115Z
LAST-MODIFIED:20260401T212115Z
UID:10001303-1776902400-1776988799@wtuz.com
SUMMARY:Preschool Program at the Johnson-Humrickhouse Museum (JHM)
DESCRIPTION:Home\nNews\n\n	News Archive\n	Obituaries\n\n\nSports\nAuction\nContests\n\n	Contest Rules\n	Birthdays\n	Anniversaries\n\n\nPodcasts\nWhat’s Happening\n\n	Cancellations\n	Garage Sales\n	Lost & Found\n\n\nStation Info\n\n	WTUZ Radio Internship\n	On-Air Schedule\n	Staff\n	Privacy Policy\n\n\nHelp Wanted\nContact\n\n	Advertising Contact\n\n\n\n							\n							\n							\n							\n				\n					\n				\n			\n						\n						\n					\n				\n				\n				\n			\n				\n				\n				\n				\n				\n				\n				\n				\n				\n				\n				\n				\n				\n				\n				\n				\n				\n				Join the Johnson-Humrickhouse Museum (JHM) for a series of fun programs for preschoolers! Every Thursday morning from 10 – 11 am for four weeks from April 2nd – April 23rd. Kids will learn interesting facts about the weather! The program is geared toward children 3 – 5 years old (but a little younger and a little older are welcome as well!) This is offered free of charge with the support of The Schooler Foundation and The Ohio Arts Council. Space is limited! Registration is required and is open now. You may sign up by filling out the form at jhmuseum.org/preschool or by calling them at 740.622.8710. They hope to see you there! The JHM is located in Historic Roscoe Village at 300 North Whitewoman Street\, Coshocton. 
URL:https://wtuz.com/event/preschool-program-at-the-johnson-humrickhouse-museum-jhm-4/
END:VEVENT
BEGIN:VEVENT
DTSTART;VALUE=DATE:20260423
DTEND;VALUE=DATE:20260424
DTSTAMP:20260423T021259
CREATED:20260409T191220Z
LAST-MODIFIED:20260409T191220Z
UID:10001313-1776902400-1776988799@wtuz.com
SUMMARY:“A History of America’s First Orbiter: John Glenn: at the Dover Public Library.
DESCRIPTION:Home\nNews\n\n	News Archive\n	Obituaries\n\n\nSports\nAuction\nContests\n\n	Contest Rules\n	Birthdays\n	Anniversaries\n\n\nPodcasts\nWhat’s Happening\n\n	Cancellations\n	Garage Sales\n	Lost & Found\n\n\nStation Info\n\n	WTUZ Radio Internship\n	On-Air Schedule\n	Staff\n	Privacy Policy\n\n\nHelp Wanted\nContact\n\n	Advertising Contact\n\n\n\n							\n							\n							\n							\n				\n					\n				\n			\n						\n						\n					\n				\n				\n				\n			\n				\n				\n				\n				\n				\n				\n				\n				\n				\n				\n				\n				\n				\n				\n				\n				\n				\n				As part of the America 250 celebration\, Hope Neal from the John & Annie Glenn Museum brings “A History of America’s First Orbiter: John Glenn” to the Dover Public Library on Thursday\, April 23 at 6:30 PM. Neal’s presentation will tell the story of John Glenn starting with his birth in Cambridge\, Ohio through his childhood in New Concord and into adulthood where his horizons widened to include the final frontier. John was a prolific figure in American and Ohio history whose impressive service history within the U.S. Marines and his education at Muskingum College\, which included flight training at New Philadelphia’s own Harry Clever Field\, allowed him to become one of the nation’s first astronauts but he didn’t stop there. He then served as Ohio’s longest sitting senator before retiring to once again return to space as the oldest astronaut at the time. Towards the end of his life\, he looked towards the future generations and established the Ohio State John Glenn School of Public Affairs along with lending a hand in establishing the John & Annie Glenn Museum and the National Veterans Memorial and Museum. Hope Neal is the Assistant Director of Operations at the Museum Association of East Muskingum who manages the John & Annie Glenn Museum for Ohio History Connection. She received her Bachelor’s Degree in History from Muskingum University in 2022 and is a month away from completing her Masters in Library and Information Science through the Luddy School of Informatics\, Computing\, and Engineering at Indiana University Indianapolis. She has spent the past six years working in the public history field as well as volunteering for Cambridge Dickens Victorian Village and the Muskingum County Community Foundation. This program will be held on Thursday\, April 23 at 6:30 PM at the Dover Public Library\, located at 525 N. Walnut Street. To register\, visit www.doverlibrary.org/events or call the library at 330-343-6123.
URL:https://wtuz.com/event/a-history-of-americas-first-orbiter-john-glenn-at-the-dover-public-library/
END:VEVENT
BEGIN:VEVENT
DTSTART;VALUE=DATE:20260423
DTEND;VALUE=DATE:20260424
DTSTAMP:20260423T021259
CREATED:20260415T132555Z
LAST-MODIFIED:20260415T132555Z
UID:10001334-1776902400-1776988799@wtuz.com
SUMMARY:Library Fest at Strasburg Library
DESCRIPTION:Home\nNews\n\n	News Archive\n	Obituaries\n\n\nSports\nAuction\nContests\n\n	Contest Rules\n	Birthdays\n	Anniversaries\n\n\nPodcasts\nWhat’s Happening\n\n	Cancellations\n	Garage Sales\n	Lost & Found\n\n\nStation Info\n\n	WTUZ Radio Internship\n	On-Air Schedule\n	Staff\n	Privacy Policy\n\n\nHelp Wanted\nContact\n\n	Advertising Contact\n\n\n\n							\n							\n							\n							\n				\n					\n				\n			\n						\n						\n					\n				\n				\n				\n			\n				\n				\n				\n				\n				\n				\n				\n				\n				\n				\n				\n				\n				\n				\n				\n				\n				\n				The Tuscarawas County Public Library System is hosting a Library Fest at the Strasburg Branch on Thursday\, April 23rd at 4:30PM. Families can enjoy a live animal encounter with a farm-themed petting zoo and have their character drawn. Please register at tusclibrary.org or by calling 330-878-5711.
URL:https://wtuz.com/event/library-fest-at-strasburg-library/
END:VEVENT
END:VCALENDAR