BEGIN:VCALENDAR
VERSION:2.0
PRODID:-//wtuz.com - ECPv6.15.16//NONSGML v1.0//EN
CALSCALE:GREGORIAN
METHOD:PUBLISH
X-ORIGINAL-URL:https://wtuz.com
X-WR-CALDESC:Events for wtuz.com
REFRESH-INTERVAL;VALUE=DURATION:PT1H
X-Robots-Tag:noindex
X-PUBLISHED-TTL:PT1H
BEGIN:VTIMEZONE
TZID:America/New_York
BEGIN:DAYLIGHT
TZOFFSETFROM:-0500
TZOFFSETTO:-0400
TZNAME:EDT
DTSTART:20250309T070000
END:DAYLIGHT
BEGIN:STANDARD
TZOFFSETFROM:-0400
TZOFFSETTO:-0500
TZNAME:EST
DTSTART:20251102T060000
END:STANDARD
BEGIN:DAYLIGHT
TZOFFSETFROM:-0500
TZOFFSETTO:-0400
TZNAME:EDT
DTSTART:20260308T070000
END:DAYLIGHT
BEGIN:STANDARD
TZOFFSETFROM:-0400
TZOFFSETTO:-0500
TZNAME:EST
DTSTART:20261101T060000
END:STANDARD
BEGIN:DAYLIGHT
TZOFFSETFROM:-0500
TZOFFSETTO:-0400
TZNAME:EDT
DTSTART:20270314T070000
END:DAYLIGHT
BEGIN:STANDARD
TZOFFSETFROM:-0400
TZOFFSETTO:-0500
TZNAME:EST
DTSTART:20271107T060000
END:STANDARD
END:VTIMEZONE
BEGIN:VEVENT
DTSTART;VALUE=DATE:20260322
DTEND;VALUE=DATE:20260420
DTSTAMP:20260421T041112
CREATED:20260310T143130Z
LAST-MODIFIED:20260310T143130Z
UID:10001252-1774137600-1776643199@wtuz.com
SUMMARY:“A Playground of Talent” sponsored by Johnson-Humrickhouse Museum
DESCRIPTION:Home\nNews\n\n	News Archive\n	Obituaries\n\n\nSports\nAuction\nContests\n\n	Contest Rules\n	Birthdays\n	Anniversaries\n\n\nPodcasts\nWhat’s Happening\n\n	Cancellations\n	Garage Sales\n	Lost & Found\n\n\nStation Info\n\n	WTUZ Radio Internship\n	On-Air Schedule\n	Staff\n	Privacy Policy\n\n\nHelp Wanted\nContact\n\n	Advertising Contact\n\n\n\n							\n							\n							\n							\n				\n					\n				\n			\n						\n						\n					\n				\n				\n				\n			\n				\n				\n				\n				\n				\n				\n				\n				\n				\n				\n				\n				\n				\n				\n				\n				\n				\n				Johnson-Humrickhouse Museum annual student art exhibition: “A Playground of Talent” opens Sunday\, March 22nd with a special reception from 1 – 3 pm. Admission during the opening event is free and the public is warmly invited to attend and support the young artists of our community. The exhibit is open until April 19th. The students are from Coshocton city and county schools\, Ridgewood High School\, Coshocton High School\, River View High School\, Coshocton Opportunity School and local homeschool programs. The high school exhibit demonstrates not only technical skill but also thoughtful exploration of themes\, personal identity and contemporary issues through art. The JHM is located in Historic Roscoe Village at 300 North Whitewoman Street\, Coshocton. “A Playground of Talent” is made possible through the generous support of The Schooler Family Fund and in part by an investment of public funds from the Ohio Arts Council (OAC). The OAC is a state agency that funds and supports quality arts experiences to strengthen Ohio communities culturally\, educationally and economically.                  
URL:https://wtuz.com/event/a-playground-of-talent-sponsored-by-johnson-humrickhouse-museum/
END:VEVENT
BEGIN:VEVENT
DTSTART;VALUE=DATE:20260323
DTEND;VALUE=DATE:20260324
DTSTAMP:20260421T041112
CREATED:20260316T200329Z
LAST-MODIFIED:20260316T200329Z
UID:10001263-1774224000-1774310399@wtuz.com
SUMMARY:Free Colon Cancer Screening for Adults 45 and Older
DESCRIPTION:Home\nNews\n\n	News Archive\n	Obituaries\n\n\nSports\nAuction\nContests\n\n	Contest Rules\n	Birthdays\n	Anniversaries\n\n\nPodcasts\nWhat’s Happening\n\n	Cancellations\n	Garage Sales\n	Lost & Found\n\n\nStation Info\n\n	WTUZ Radio Internship\n	On-Air Schedule\n	Staff\n	Privacy Policy\n\n\nHelp Wanted\nContact\n\n	Advertising Contact\n\n\n\n							\n							\n							\n							\n				\n					\n				\n			\n						\n						\n					\n				\n				\n				\n			\n				\n				\n				\n				\n				\n				\n				\n				\n				\n				\n				\n				\n				\n				\n				\n				\n				\n				Free Colon Cancer Screenings for Adults 45 and Older with No Symptoms or Immediate Family History of Colon Cancer: Thanks to grant funding from Guardant Health\, the Tuscarawas County Health Department is offering free colorectal cancer screenings during the month of March for all adults age 45 and older who do not have active symptoms of colorectal cancer and do not have a family history of the disease in their parents or siblings. To schedule an appointment or ask questions\, call the Tuscarawas County Health Department 330-343-5555\, ext. 1810. Fasting is not required for the test. Patients need to bring a current ID card to verify age.                  
URL:https://wtuz.com/event/free-colon-cancer-screening-for-adults-45-and-older-4/
END:VEVENT
BEGIN:VEVENT
DTSTART;VALUE=DATE:20260324
DTEND;VALUE=DATE:20260325
DTSTAMP:20260421T041112
CREATED:20260316T200829Z
LAST-MODIFIED:20260316T200829Z
UID:10001264-1774310400-1774396799@wtuz.com
SUMMARY:Cleveland Clinic Union Hospital A1c Screening
DESCRIPTION:Home\nNews\n\n	News Archive\n	Obituaries\n\n\nSports\nAuction\nContests\n\n	Contest Rules\n	Birthdays\n	Anniversaries\n\n\nPodcasts\nWhat’s Happening\n\n	Cancellations\n	Garage Sales\n	Lost & Found\n\n\nStation Info\n\n	WTUZ Radio Internship\n	On-Air Schedule\n	Staff\n	Privacy Policy\n\n\nHelp Wanted\nContact\n\n	Advertising Contact\n\n\n\n							\n							\n							\n							\n				\n					\n				\n			\n						\n						\n					\n				\n				\n				\n			\n				\n				\n				\n				\n				\n				\n				\n				\n				\n				\n				\n				\n				\n				\n				\n				\n				\n				The Cleveland Clinic Union Hospital A1c Screening will take place on Tuesday\, March 24th from 9 am – 11 am at Swiss Village Bulk Food Store\, 309 S Broadway Street\, Sugarcreek. Management of blood sugar is key in reducing the health complications of diabetes. This finger stick screening test measures your average blood sugar over the past 2 to 3 months. It is a non-fasting test. The cost is $10. (Cash or check only). To register\, call 330.602.0779 or Visit: unionhospital.org/events to see a full list of Cleveland Clinic Union Hospital community events. (Appointments are preferred. Walk-ins are subject to availability.)
URL:https://wtuz.com/event/cleveland-clinic-union-hospital-a1c-screening-10/
END:VEVENT
BEGIN:VEVENT
DTSTART;VALUE=DATE:20260324
DTEND;VALUE=DATE:20260325
DTSTAMP:20260421T041112
CREATED:20260316T201003Z
LAST-MODIFIED:20260316T201003Z
UID:10001265-1774310400-1774396799@wtuz.com
SUMMARY:Free Colon Cancer Screening for Adults 45 and Older
DESCRIPTION:Home\nNews\n\n	News Archive\n	Obituaries\n\n\nSports\nAuction\nContests\n\n	Contest Rules\n	Birthdays\n	Anniversaries\n\n\nPodcasts\nWhat’s Happening\n\n	Cancellations\n	Garage Sales\n	Lost & Found\n\n\nStation Info\n\n	WTUZ Radio Internship\n	On-Air Schedule\n	Staff\n	Privacy Policy\n\n\nHelp Wanted\nContact\n\n	Advertising Contact\n\n\n\n							\n							\n							\n							\n				\n					\n				\n			\n						\n						\n					\n				\n				\n				\n			\n				\n				\n				\n				\n				\n				\n				\n				\n				\n				\n				\n				\n				\n				\n				\n				\n				\n				Free Colon Cancer Screenings for Adults 45 and Older with No Symptoms or Immediate Family History of Colon Cancer: Thanks to grant funding from Guardant Health\, the Tuscarawas County Health Department is offering free colorectal cancer screenings during the month of March for all adults age 45 and older who do not have active symptoms of colorectal cancer and do not have a family history of the disease in their parents or siblings. To schedule an appointment or ask questions\, call the Tuscarawas County Health Department 330-343-5555\, ext. 1810. Fasting is not required for the test. Patients need to bring a current ID card to verify age.   
URL:https://wtuz.com/event/free-colon-cancer-screening-for-adults-45-and-older-5/
END:VEVENT
BEGIN:VEVENT
DTSTART;VALUE=DATE:20260326
DTEND;VALUE=DATE:20260327
DTSTAMP:20260421T041112
CREATED:20260316T201440Z
LAST-MODIFIED:20260316T201440Z
UID:10001266-1774483200-1774569599@wtuz.com
SUMMARY:Feast and Fellowship Dinner
DESCRIPTION:Home\nNews\n\n	News Archive\n	Obituaries\n\n\nSports\nAuction\nContests\n\n	Contest Rules\n	Birthdays\n	Anniversaries\n\n\nPodcasts\nWhat’s Happening\n\n	Cancellations\n	Garage Sales\n	Lost & Found\n\n\nStation Info\n\n	WTUZ Radio Internship\n	On-Air Schedule\n	Staff\n	Privacy Policy\n\n\nHelp Wanted\nContact\n\n	Advertising Contact\n\n\n\n							\n							\n							\n							\n				\n					\n				\n			\n						\n						\n					\n				\n				\n				\n			\n				\n				\n				\n				\n				\n				\n				\n				\n				\n				\n				\n				\n				\n				\n				\n				\n				\n				St. Peter’s Oldtown Valley Church hosts a free will donation dinner\, open to the community on March 26th\, 4:30-6pm! The menu consists of a couple of entrees\, Soup\, Sandwich and Homemade desserts. ALL proceeds of the Feast & Fellowship dinners go toward LOCAL mission support! Follow them on Facebook and check out their website to stay up to date on all their events! www.stpeterschurchofoldtown.com
URL:https://wtuz.com/event/feast-and-fellowship-dinner/
END:VEVENT
BEGIN:VEVENT
DTSTART;VALUE=DATE:20260326
DTEND;VALUE=DATE:20260327
DTSTAMP:20260421T041112
CREATED:20260316T201700Z
LAST-MODIFIED:20260316T201747Z
UID:10001267-1774483200-1774569599@wtuz.com
SUMMARY:TCC Arts Fest and Open House
DESCRIPTION:Home\nNews\n\n	News Archive\n	Obituaries\n\n\nSports\nAuction\nContests\n\n	Contest Rules\n	Birthdays\n	Anniversaries\n\n\nPodcasts\nWhat’s Happening\n\n	Cancellations\n	Garage Sales\n	Lost & Found\n\n\nStation Info\n\n	WTUZ Radio Internship\n	On-Air Schedule\n	Staff\n	Privacy Policy\n\n\nHelp Wanted\nContact\n\n	Advertising Contact\n\n\n\n							\n							\n							\n							\n				\n					\n				\n			\n						\n						\n					\n				\n				\n				\n			\n				\n				\n				\n				\n				\n				\n				\n				\n				\n				\n				\n				\n				\n				\n				\n				\n				\n				TCC Arts Fest and Open House will take place Thursday\, March 26th\, 5:30-7:30pm located at the school\, 777 3rd St NE\, New Philadelphia. All Tuscarawas and surrounding county students Grade pre-K thru 12th and their families are invited. Student Musical performances\, Student Art Displays\, Hands-on/Information stations for school clubs\, Art and Music\, Meet Principals\, Teachers\, and Athletic Coaches\, and Guided Tours available.
URL:https://wtuz.com/event/tcc-arts-fest-and-open-house/
END:VEVENT
BEGIN:VEVENT
DTSTART;VALUE=DATE:20260326
DTEND;VALUE=DATE:20260329
DTSTAMP:20260421T041112
CREATED:20260316T202031Z
LAST-MODIFIED:20260316T202031Z
UID:10001268-1774483200-1774742399@wtuz.com
SUMMARY:Claymont Drama Presents County Fair A Country Hits Musical
DESCRIPTION:Home\nNews\n\n	News Archive\n	Obituaries\n\n\nSports\nAuction\nContests\n\n	Contest Rules\n	Birthdays\n	Anniversaries\n\n\nPodcasts\nWhat’s Happening\n\n	Cancellations\n	Garage Sales\n	Lost & Found\n\n\nStation Info\n\n	WTUZ Radio Internship\n	On-Air Schedule\n	Staff\n	Privacy Policy\n\n\nHelp Wanted\nContact\n\n	Advertising Contact\n\n\n\n							\n							\n							\n							\n				\n					\n				\n			\n						\n						\n					\n				\n				\n				\n			\n				\n				\n				\n				\n				\n				\n				\n				\n				\n				\n				\n				\n				\n				\n				\n				\n				\n				Claymont Drama presents County Fair A Country Hits Musical March 26-28\, 7pm at Claymont High School. Adults $10\, students $7\, tickets available at the door. Dust off those boots and shine up that belt buckle! Claymont Drama is turning the County Fair into a country celebration\, so come dressed in your favorite country attire. Whether it’s denim\, plaid\, rhinestones\, or a classic cowboy hat\, let your style shine.
URL:https://wtuz.com/event/claymont-drama-presents-county-fair-a-country-hits-musical/
END:VEVENT
BEGIN:VEVENT
DTSTART;VALUE=DATE:20260327
DTEND;VALUE=DATE:20260328
DTSTAMP:20260421T041112
CREATED:20260310T130414Z
LAST-MODIFIED:20260310T130414Z
UID:10001245-1774569600-1774655999@wtuz.com
SUMMARY:Sacred Heart Catholic Church Lenten Fish Dinners
DESCRIPTION:Home\nNews\n\n	News Archive\n	Obituaries\n\n\nSports\nAuction\nContests\n\n	Contest Rules\n	Birthdays\n	Anniversaries\n\n\nPodcasts\nWhat’s Happening\n\n	Cancellations\n	Garage Sales\n	Lost & Found\n\n\nStation Info\n\n	WTUZ Radio Internship\n	On-Air Schedule\n	Staff\n	Privacy Policy\n\n\nHelp Wanted\nContact\n\n	Advertising Contact\n\n\n\n							\n							\n							\n							\n				\n					\n				\n			\n						\n						\n					\n				\n				\n				\n			\n				\n				\n				\n				\n				\n				\n				\n				\n				\n				\n				\n				\n				\n				\n				\n				\n				\n				Sacred Heart Catholic Church serves 3 varieties of fish each Friday night with a selection of side dishes and desserts. Fish Dinners take place at Sacred Heart Parish Center at 139 3rd Street NE\, New Philadelphia. Dine-In or Carry-Out from 4 – 7 pm every Friday through March 27th. Costs are $12/regular size and $15/large size. Ala carte items of cheese pizza and macaroni and cheese are $2 each. Enjoy fellowship with family and friends while supporting student and parishioner organizations with ample parking and easy access to the building. Proceeds benefit church functions and general expenses\, including rectory maintenance\, administering sacraments\, upkeep at 3 area cemeteries\, religious education and more.
URL:https://wtuz.com/event/sacred-heart-catholic-church-lenten-fish-dinners-3/
END:VEVENT
BEGIN:VEVENT
DTSTART;VALUE=DATE:20260328
DTEND;VALUE=DATE:20260329
DTSTAMP:20260421T041112
CREATED:20260316T202146Z
LAST-MODIFIED:20260316T202200Z
UID:10001269-1774656000-1774742399@wtuz.com
SUMMARY:Free Community Easter Egg Hunt
DESCRIPTION:Home\nNews\n\n	News Archive\n	Obituaries\n\n\nSports\nAuction\nContests\n\n	Contest Rules\n	Birthdays\n	Anniversaries\n\n\nPodcasts\nWhat’s Happening\n\n	Cancellations\n	Garage Sales\n	Lost & Found\n\n\nStation Info\n\n	WTUZ Radio Internship\n	On-Air Schedule\n	Staff\n	Privacy Policy\n\n\nHelp Wanted\nContact\n\n	Advertising Contact\n\n\n\n							\n							\n							\n							\n				\n					\n				\n			\n						\n						\n					\n				\n				\n				\n			\n				\n				\n				\n				\n				\n				\n				\n				\n				\n				\n				\n				\n				\n				\n				\n				\n				\n				Mark your calendar for a free community Easter Egg Hunt on Saturday\, March 28th from 1 to 3 PM at St. Peter’s Church of Oldtown Valley\, located at 3640 Oldtown Valley Road in New Philadelphia. Children ages 1 through 10 are invited to enjoy age-grouped egg hunts\, lots of eggs\, fun prizes\, and special golden eggs — even for parents! Bring a basket and join the fun. RSVP is encouraged. Look them up on Facebook or visit their website at www.stpeterschurchofoldtown.com or more details. All families are welcome!
URL:https://wtuz.com/event/free-community-easter-egg-hunt/
END:VEVENT
BEGIN:VEVENT
DTSTART;VALUE=DATE:20260328
DTEND;VALUE=DATE:20260329
DTSTAMP:20260421T041112
CREATED:20260316T202320Z
LAST-MODIFIED:20260316T202320Z
UID:10001270-1774656000-1774742399@wtuz.com
SUMMARY:6th Annual Easter Egg Hunt
DESCRIPTION:Home\nNews\n\n	News Archive\n	Obituaries\n\n\nSports\nAuction\nContests\n\n	Contest Rules\n	Birthdays\n	Anniversaries\n\n\nPodcasts\nWhat’s Happening\n\n	Cancellations\n	Garage Sales\n	Lost & Found\n\n\nStation Info\n\n	WTUZ Radio Internship\n	On-Air Schedule\n	Staff\n	Privacy Policy\n\n\nHelp Wanted\nContact\n\n	Advertising Contact\n\n\n\n							\n							\n							\n							\n				\n					\n				\n			\n						\n						\n					\n				\n				\n				\n			\n				\n				\n				\n				\n				\n				\n				\n				\n				\n				\n				\n				\n				\n				\n				\n				\n				\n				Organic Church of Uhrichsville will host their 6th annual Easter Egg Hunt on March 28th. The egg hunt will begin at 12pm with free entertainment\, refreshments\, and prizes. Join them for great fun as they celebrate the Easter Holiday. This is a free community event.  
URL:https://wtuz.com/event/6th-annual-easter-egg-hunt/
END:VEVENT
BEGIN:VEVENT
DTSTART;VALUE=DATE:20260328
DTEND;VALUE=DATE:20260329
DTSTAMP:20260421T041112
CREATED:20260316T204014Z
LAST-MODIFIED:20260316T204014Z
UID:10001271-1774656000-1774742399@wtuz.com
SUMMARY:Electronics Recycling Day
DESCRIPTION:Home\nNews\n\n	News Archive\n	Obituaries\n\n\nSports\nAuction\nContests\n\n	Contest Rules\n	Birthdays\n	Anniversaries\n\n\nPodcasts\nWhat’s Happening\n\n	Cancellations\n	Garage Sales\n	Lost & Found\n\n\nStation Info\n\n	WTUZ Radio Internship\n	On-Air Schedule\n	Staff\n	Privacy Policy\n\n\nHelp Wanted\nContact\n\n	Advertising Contact\n\n\n\n							\n							\n							\n							\n				\n					\n				\n			\n						\n						\n					\n				\n				\n				\n			\n				\n				\n				\n				\n				\n				\n				\n				\n				\n				\n				\n				\n				\n				\n				\n				\n				\n				First United Church of Sugarcreek along with Summit e-waste will host an Electronics Recycling Day Saturday\, March 28th\, 10am-2pm at the Church located at 526 West Main St in Sugarcreek. Electronics Recycling: Desktop Computers & Laptops\, Printers – All Types and Sizes\, Cell Phones\, PDAs & Mobile Devices\, Telephones & Phone Systems\, Modems\, Routers & Servers\, DVD Players\, VCRs & Stereos\, Game Consoles & Radios\, Cables\, Wires & Power Adapters\, Ink & Toner Cartridges\, anything that plugs in or uses batteries\, Computer Monitors\, and Televisions.
URL:https://wtuz.com/event/electronics-recycling-day/
END:VEVENT
BEGIN:VEVENT
DTSTART;VALUE=DATE:20260328
DTEND;VALUE=DATE:20260329
DTSTAMP:20260421T041112
CREATED:20260316T204351Z
LAST-MODIFIED:20260316T204351Z
UID:10001272-1774656000-1774742399@wtuz.com
SUMMARY:Conotton Valley Youth Softball Fundraiser
DESCRIPTION:Home\nNews\n\n	News Archive\n	Obituaries\n\n\nSports\nAuction\nContests\n\n	Contest Rules\n	Birthdays\n	Anniversaries\n\n\nPodcasts\nWhat’s Happening\n\n	Cancellations\n	Garage Sales\n	Lost & Found\n\n\nStation Info\n\n	WTUZ Radio Internship\n	On-Air Schedule\n	Staff\n	Privacy Policy\n\n\nHelp Wanted\nContact\n\n	Advertising Contact\n\n\n\n							\n							\n							\n							\n				\n					\n				\n			\n						\n						\n					\n				\n				\n				\n			\n				\n				\n				\n				\n				\n				\n				\n				\n				\n				\n				\n				\n				\n				\n				\n				\n				\n				Come out and support the Conotton Valley Youth Softball fundraiser basket bingo on Saturday\, March 28th at Sherrodsville Lions Club\, 80 Hill Dr in Sherrodsville. Doors open at 5\, Bingo starts at 6pm. Concession available with drinks and snacks. $20 entry fee\, table of 6 $110. 
URL:https://wtuz.com/event/conotton-valley-youth-softball-fundraiser/
END:VEVENT
BEGIN:VEVENT
DTSTART;VALUE=DATE:20260328
DTEND;VALUE=DATE:20260329
DTSTAMP:20260421T041112
CREATED:20260316T205102Z
LAST-MODIFIED:20260316T205102Z
UID:10001273-1774656000-1774742399@wtuz.com
SUMMARY:Annual Easter Egg Hunt sponsored by the Newcomerstown Elks Lodge #1555
DESCRIPTION:Home\nNews\n\n	News Archive\n	Obituaries\n\n\nSports\nAuction\nContests\n\n	Contest Rules\n	Birthdays\n	Anniversaries\n\n\nPodcasts\nWhat’s Happening\n\n	Cancellations\n	Garage Sales\n	Lost & Found\n\n\nStation Info\n\n	WTUZ Radio Internship\n	On-Air Schedule\n	Staff\n	Privacy Policy\n\n\nHelp Wanted\nContact\n\n	Advertising Contact\n\n\n\n							\n							\n							\n							\n				\n					\n				\n			\n						\n						\n					\n				\n				\n				\n			\n				\n				\n				\n				\n				\n				\n				\n				\n				\n				\n				\n				\n				\n				\n				\n				\n				\n				Annual Easter Egg Hunt sponsored by the Newcomerstown Elks Lodge #1555 takes place Saturday\, March 28th and will start promptly at 10 am (arrive early!) This is rain or shine. Please take your own basket. The location is Cy Young Park\, 345 Park Avenue\, Newcomerstown. There will be 4 different age groups: 0-3 (tiny tots); 4-6; 7-9; and 10-12. Thousands of eggs to find! Special Golden Eggs & prizes! This is a FREE event for ALL children!             
URL:https://wtuz.com/event/annual-easter-egg-hunt-sponsored-by-the-newcomerstown-elks-lodge-1555/
END:VEVENT
BEGIN:VEVENT
DTSTART;VALUE=DATE:20260328
DTEND;VALUE=DATE:20260329
DTSTAMP:20260421T041113
CREATED:20260317T155511Z
LAST-MODIFIED:20260317T155511Z
UID:10001274-1774656000-1774742399@wtuz.com
SUMMARY:Chili Cook-Off sponsored by Deersville Community Volunteer Fire Department
DESCRIPTION:Home\nNews\n\n	News Archive\n	Obituaries\n\n\nSports\nAuction\nContests\n\n	Contest Rules\n	Birthdays\n	Anniversaries\n\n\nPodcasts\nWhat’s Happening\n\n	Cancellations\n	Garage Sales\n	Lost & Found\n\n\nStation Info\n\n	WTUZ Radio Internship\n	On-Air Schedule\n	Staff\n	Privacy Policy\n\n\nHelp Wanted\nContact\n\n	Advertising Contact\n\n\n\n							\n							\n							\n							\n				\n					\n				\n			\n						\n						\n					\n				\n				\n				\n			\n				\n				\n				\n				\n				\n				\n				\n				\n				\n				\n				\n				\n				\n				\n				\n				\n				\n				The Deersville Community Volunteer Fire Department’s Chili Cook-Off will take place on Saturday\, March 28th from 4 – 7 pm. Entry fee is $5 with Sample tickets $1. Other food items will be also available for purchase. Proceeds support the Deersville Community Volunteer Fire Department. The Deersville Community Volunteer Fire Department is located at 107 East Main Street\, Deersville.
URL:https://wtuz.com/event/chili-cook-off-sponsored-by-deersville-community-volunteer-fire-department/
END:VEVENT
END:VCALENDAR